BEGIN:VCALENDAR
VERSION:2.0
PRODID:-//Homes on the Hill - ECPv6.6.4.2//NONSGML v1.0//EN
CALSCALE:GREGORIAN
METHOD:PUBLISH
X-WR-CALNAME:Homes on the Hill
X-ORIGINAL-URL:https://www.hoth-cdc.org
X-WR-CALDESC:Events for Homes on the Hill
REFRESH-INTERVAL;VALUE=DURATION:PT1H
X-Robots-Tag:noindex
X-PUBLISHED-TTL:PT1H
BEGIN:VTIMEZONE
TZID:America/New_York
BEGIN:DAYLIGHT
TZOFFSETFROM:-0500
TZOFFSETTO:-0400
TZNAME:EDT
DTSTART:20210314T070000
END:DAYLIGHT
BEGIN:STANDARD
TZOFFSETFROM:-0400
TZOFFSETTO:-0500
TZNAME:EST
DTSTART:20211107T060000
END:STANDARD
END:VTIMEZONE
BEGIN:VEVENT
DTSTART;TZID=America/New_York:20210707T080000
DTEND;TZID=America/New_York:20210707T170000
DTSTAMP:20260421T114715
CREATED:20210630T022053Z
LAST-MODIFIED:20210630T022053Z
UID:1458-1625644800-1625677200@www.hoth-cdc.org
SUMMARY:Budget and Credit Counseling
DESCRIPTION:These one-on-one sessions are available to any Ohio resident. A housing counselor will teach you how to read your credit report\, develop a relationship with a bank\, develop a household budget\, and create an action plan to improve your credit store and establish savings. Call 614-275-4663\, ext. 101\, to make an appointment. Before your first visit\, download\, print\, and fill out the information packet and bring it with you. See the links in the upper right-hand panel of this page.
URL:https://www.hoth-cdc.org/event/budget-and-credit-counseling/
LOCATION:Homes on the Hill\, 3659 Soldano Blvd.\, Columbus\, OH\, 43228\, United States
END:VEVENT
END:VCALENDAR